BEGIN:VCALENDAR
VERSION:2.0
PRODID:-//EduTechDiva Online - ECPv6.13.2.1//NONSGML v1.0//EN
CALSCALE:GREGORIAN
METHOD:PUBLISH
X-WR-CALNAME:EduTechDiva Online
X-ORIGINAL-URL:https://edutechdiva.net
X-WR-CALDESC:Events for EduTechDiva Online
REFRESH-INTERVAL;VALUE=DURATION:PT1H
X-Robots-Tag:noindex
X-PUBLISHED-TTL:PT1H
BEGIN:VTIMEZONE
TZID:UTC
BEGIN:STANDARD
TZOFFSETFROM:+0000
TZOFFSETTO:+0000
TZNAME:UTC
DTSTART:20180101T000000
END:STANDARD
END:VTIMEZONE
BEGIN:VEVENT
DTSTART;TZID=UTC:20201022T130000
DTEND;TZID=UTC:20201022T140000
DTSTAMP:20260423T152517
CREATED:20201013T164055Z
LAST-MODIFIED:20201013T164233Z
UID:1321-1603371600-1603375200@edutechdiva.net
SUMMARY:Lean HE Global Festival 2020 Online
DESCRIPTION:LHE 2020: Showing Our Work & Planning Ahead for the COVID Crunch\n\n\nby Lean in Higher Education Global\n\n\nThis session is facilitated by Tonya Thomas\, professor and senior business systems analyst\, and Michelle Schnell\, program management specialist\, Wayne State University\, Detroit\, MI\, USA. \n\nParticipants can expect to see/hear about WSU’s effort to grow CQI culture; see how we “show our work;” and discuss plans to broaden our impact across campus during challenging COVID times.\nWe’ll showcase our service model\, our project tracker\, our success dashboard\, and share/crowdsource for how Lean/CQI teams can be most helpful in a “COVID Crunch.”
URL:https://edutechdiva.net/event/lean-he-global-festival-2020-online-2/
CATEGORIES:presentation,workshop
ATTACH;FMTTYPE=image/png:https://edutechdiva.net/wp-content/uploads/2020/10/Showing-Our-Work-Planning-Ahead-for-the-COVID-Crunch.png
END:VEVENT
BEGIN:VEVENT
DTSTART;TZID=UTC:20201019T230000
DTEND;TZID=UTC:20201020T000000
DTSTAMP:20260423T152517
CREATED:20201013T163753Z
LAST-MODIFIED:20201013T164323Z
UID:1318-1603148400-1603152000@edutechdiva.net
SUMMARY:Lean HE Global Festival 2020 Online
DESCRIPTION:LHE 2020: Showing Our Work & Planning Ahead for the COVID Crunch\n\n\nby Lean in Higher Education Global\n\n\nThis session is facilitated by Tonya Thomas\, professor and senior business systems analyst\, and Michelle Schnell\, program management specialist\, Wayne State University\, Detroit\, MI\, USA. \n\nParticipants can expect to see/hear about WSU’s effort to grow CQI culture; see how we “show our work;” and discuss plans to broaden our impact across campus during challenging COVID times.\nWe’ll showcase our service model\, our project tracker\, our success dashboard\, and share/crowdsource for how Lean/CQI teams can be most helpful in a “COVID Crunch.”
URL:https://edutechdiva.net/event/lean-he-global-festival-2020-online/
CATEGORIES:presentation,workshop
ATTACH;FMTTYPE=image/png:https://edutechdiva.net/wp-content/uploads/2020/10/Showing-Our-Work-Planning-Ahead-for-the-COVID-Crunch.png
END:VEVENT
BEGIN:VEVENT
DTSTART;TZID=UTC:20200917T173000
DTEND;TZID=UTC:20200917T193000
DTSTAMP:20260423T152517
CREATED:20200827T183717Z
LAST-MODIFIED:20200827T183717Z
UID:1282-1600363800-1600371000@edutechdiva.net
SUMMARY:Universal Design for Performance Improvement
DESCRIPTION:Session Description (still somewhat fluid)\nIn this interactive online session\, Tonya Thomas walks participants through the application of Universal Design for Learning (UDL) principles to performance improvement and execution strategies\, pulling examples from her own rich experience as both educator AND learner over her career of +20 years. Participants will be exposed to concepts\, power techniques\, and #techtoolz that assist with making performance interventions more “sticky\,” more actionable\, and—most importantly—more inclusive. \nSession Goals/Outcomes\nParticipants will: \n\nDescribe the foundational tenets of UDL and how this framework applies to performance support\nTake stock of the various ways their workplace supports the incorporation of UDL for performance issues\nUsing provided UDL reference tools\, outline ways to apply UDL for performance to real-world performance issues
URL:https://edutechdiva.net/event/universal-design-for-performance-improvement/
END:VEVENT
BEGIN:VEVENT
DTSTART;TZID=UTC:20190710T080000
DTEND;TZID=UTC:20190712T170000
DTSTAMP:20260423T152517
CREATED:20190304T162623Z
LAST-MODIFIED:20190304T163446Z
UID:610-1562745600-1562950800@edutechdiva.net
SUMMARY:Use What Ya Got: Getting Our Innovative Bang for The Buck with Microsoft Teams for Process Improvement and Project Collaboration
DESCRIPTION:Walk away with a little “how to\,” a little wisdom\, and lessons learned by one of Wayne State University’s early adopters and emerging technology evangelists as we share applications and best practices used to put the latest Microsoft collaboration technology to work in a higher education environment. In this presentation\, you’ll hear about the experience we’ve had with the challenges of getting higher ed users to adopt new technology and the practical ways used to mitigate resistance\, gain consensus\, and move toward active participation. Get tips on how to think about project startup with rich collaboration in mind from the beginning; how to use Microsoft Teams to get a project started on the best possible foot; and how to keep project momentum going through rich online member engagement. \nThis presentation is suitable for attendees at all levels of knowledge/expertise. Those with basic knowledge/comfort with technology are welcome to watch\, listen\, and learn; while those with more advanced technology comfort are welcome to join the demonstration space during the session.
URL:https://edutechdiva.net/event/use-what-ya-got-getting-our-innovative-bang-for-the-buck-with-microsoft-teams-for-process-improvement-and-project-collaboration/
LOCATION:Grand Hyatt – Denver\, CO
CATEGORIES:presentation,workshop
ATTACH;FMTTYPE=image/png:https://edutechdiva.net/wp-content/uploads/2019/03/NCCI_Logo_175px.png
END:VEVENT
BEGIN:VEVENT
DTSTART;TZID=UTC:20190517T080000
DTEND;TZID=UTC:20190517T120000
DTSTAMP:20260423T152517
CREATED:20190304T162108Z
LAST-MODIFIED:20190304T162108Z
UID:607-1558080000-1558094400@edutechdiva.net
SUMMARY:Madness to Mission: Meaningful Living in a Digital World
DESCRIPTION:Use 21st Century tools and resources to find your purpose\, maintain your sanity\, keep goals in focus\, and your compass pointed Due North.
URL:https://edutechdiva.net/event/madness-to-mission-meaningful-living-in-a-digital-world/
LOCATION:Michigan League – Ann Arbor\, MI
CATEGORIES:presentation
ATTACH;FMTTYPE=image/png:https://edutechdiva.net/wp-content/uploads/2019/03/https-cdn.evbuc_.com-images-53508091-9807290819-1-original.png
END:VEVENT
BEGIN:VEVENT
DTSTART;TZID=UTC:20180913T160000
DTEND;TZID=UTC:20180913T170000
DTSTAMP:20260423T152517
CREATED:20180902T192128Z
LAST-MODIFIED:20180907T191024Z
UID:525-1536854400-1536858000@edutechdiva.net
SUMMARY:Effective Time Management for Graduate Students
DESCRIPTION:For UM Dearborn grad students
URL:https://edutechdiva.net/event/effective-time-management-for-graduate-students/
LOCATION:UM Dearborn Mardigian Library\, 4901 Evergreen Rd\, Dearborn\, MI\, 48128\, United States
END:VEVENT
BEGIN:VEVENT
DTSTART;TZID=UTC:20180913T090000
DTEND;TZID=UTC:20180913T120000
DTSTAMP:20260423T152517
CREATED:20180902T191932Z
LAST-MODIFIED:20180902T191932Z
UID:523-1536829200-1536840000@edutechdiva.net
SUMMARY:Taking Effective Notes with Technology!
DESCRIPTION:
URL:https://edutechdiva.net/event/taking-effective-notes-with-technology/
LOCATION:UM Ann Arbor Administrative Services Building\, 1009 Green Street\, Ann Arbor\, MI\, 48109\, United States
END:VEVENT
END:VCALENDAR